1.5625
0
0
-1.5625
179793.610024
568370.052559
