1.5625
0
0
-1.5625
214784.222024
573476.587224
