1.5625
0
0
-1.5625
174556.822024
575521.205933
