1.5625
0
0
-1.5625
97751.4330236
470723.582016
