1.5625
0
0
-1.5625
32940.1040236
403091.696795
