1.5625
0
0
-1.5625
151235.819024
434374.431224
