1.5625
0
0
-1.5625
53404.2890236
395590.329067
