1.5625
0
0
-1.5625
129189.474024
500732.191874
