1.5625
0
0
-1.5625
152751.630024
436707.640114
