1.5625
0
0
-1.5625
196498.436024
370652.424051
