1.5625
0
0
-1.5625
210756.737024
440227.803913
