1.5625
0
0
-1.5625
260535.648024
531428.021291
