1.5625
0
0
-1.5625
261787.857024
533931.09861
