1.5625
0
0
-1.5625
51717.2680236
393476.484776
