1.5625
0
0
-1.5625
176399.296024
468049.568976
