1.5625
0
0
-1.5625
171037.246024
465954.997508
