1.5625
0
0
-1.5625
97011.8410236
438665.601665
