1.5625
0
0
-1.5625
110722.219024
504242.496815
