1.5625
0
0
-1.5625
103400.161024
415689.784169
