1.5625
0
0
-1.5625
242177.767024
587002.807276
