1.5625
0
0
-1.5625
148087.572024
449059.956799
