1.5625
0
0
-1.5625
183724.742024
542699.071492
