1.5625
0
0
-1.5625
174842.262024
556102.804579
