1.5625
0
0
-1.5625
214216.665024
595690.533138
