1.5625
0
0
-1.5625
128572.566024
439246.272461
