1.5625
0
0
-1.5625
247321.496024
599602.810807
