1.5625
0
0
-1.5625
89777.4390236
466966.543201
