1.5625
0
0
-1.5625
103907.357024
472293.7245
