1.5625
0
0
-1.5625
173049.764024
575155.191724
