1.5625
0
0
-1.5625
221695.585024
581642.343449
