1.5625
0
0
-1.5625
223021.338024
577087.676094
