1.5625
0
0
-1.5625
203408.527024
456195.20648
