1.5625
0
0
-1.5625
150394.337024
401265.329087
