1.5625
0
0
-1.5625
207300.582024
496699.995724
