1.5625
0
0
-1.5625
181656.467024
383571.670756
