1.5625
0
0
-1.5625
200243.128024
562857.906614
