1.5625
0
0
-1.5625
95022.8520236
478283.148524
