1.5625
0
0
-1.5625
194167.513024
439402.828661
