1.5625
0
0
-1.5625
129441.528024
407520.444197
