1.5625
0
0
-1.5625
161492.686024
411551.208169
