1.5625
0
0
-1.5625
242358.726024
597156.857953
