1.5625
0
0
-1.5625
128347.519024
464577.783701
