1.5625
0
0
-1.5625
187815.416024
353426.324717
