1.5625
0
0
-1.5625
94503.8860236
424282.379055
