1.5625
0
0
-1.5625
75375.0440236
443711.330996
