1.5625
0
0
-1.5625
152351.678024
424599.149579
