1.5625
0
0
-1.5625
191876.328024
348397.499409
