1.5625
0
0
-1.5625
132862.964024
501489.170039
