1.5625
0
0
-1.5625
175677.686024
601318.703366
