1.5625
0
0
-1.5625
207446.415024
576422.592177
